Workbook

Sheet Analysis
A1: Rent vs Buy
A2: Last Updated: | B2: =TODAY() -> 42881 | C2: Copyright: Lawrence LaPlue | E2: llaplue@outlook.com | H2: https://lawrencelaplue.com/2017/05/25/rent-vs-buy/
C3: Disclaimer: This workbook was created for personal and academic use only, it is not inteded to provide specific financial advice.
A4: Overview: This workbook is predicated on the idea that households are constrained with regard to their wealth. In particular, consumption crowds out investment and vice versa. For most transactions, this is obvious and the tradeoff is straightforward. Housing, however, is a more complicated good, since it can serve as BOTH a consumption and an investment good. In addition, since it generally comprises a substantial portion of household budgets it is important to consider the numerous implications (opportunity costs) that a financial decision of that magnitude entails. This analysis approximately compares the CASH-EQUIVALENCE of two decisions (rent vs own), i.e. after living in a home for a period of time, what is the financial position of a person as they leave the home (either selling or ending a lease) -- many of the details related to either decision can be easily modified to more closely match an individual's situation.
A5: NOTE 1: In an attempt to compare apples to apples, a fixed budget must be established. Of course, this is often dictated by the local market conditions, but for the investment outcomes to be comperable, the analysis assumes that the household sets aside similar amounts of cash, for both options. In other words, the household should assume the same fixed outlay (that will go towards housing expenses OR a stock market investment), regardless of whether they rent or buy (that the household will be able to maintain the conviction necessary to follow through with this is an important and strong assumption).
A6: NOTE 2: This analysis assumes that the household (whether they choose to rent or to buy) has the required downpayment available in cash.
A7: NOTE 3: Gray highlighting denotes "assumption" cells. Interested individuals should make changes that match their risk tollerances and personal experience and generally seem factual and specific to their own situation. Several cells have attached comments for further detail.
A8: NOTE 4: This analysis does not attempt to evaluate tax implications, except to ROUGHLY incorporate consideration of a mortgage interest deduction for potential homeowners. See cell A36.
A9: NOTE 5: Individual scenarios and their various details and outcomes can be developed and evaluated on this "Analysis" sheet. Using Excel's "What-If" analysis, a series of outcomes (associated with a specific scenario) can be evaluated, visually, in the "Plot" sheet (further details can be found in that sheet).
B12: Monthly Housing/Investing Budget (max of monthly "housing" expenditures from renting or buying). | D12: =LARGE(B28:F28,1) -> 1380
A14: Time Period (YRS) | B14: 15 | H14: 3 Possible Real-estate Scenarios
B15: BUY | F15: RENT | H15: Appreciation | I15: -0.02 | J15: 0 | K15: 0.02 | L15: NOTE: that if this appreciation rate is consided, relative to inflation, 0 is a reasonable "real" target. Historically (from 1900 - 2012) inflation adjusted housing prices have only risen by roughly 0.1% per year on average.
A16: Monthly Rent | F16: 1200 | H16: Final Equity Position | I16: =$B$17*(1+I15)^$B$14 -> 129249.59 | J16: =$B$17*(1+J15)^$B$14 -> 175000 | K16: =$B$17*(1+K15)^$B$14 -> 235526.96
A17: Home Price | B17: 175000 | H17: Commission/Closing (M17) | I17: =I16*$M$17 -> 7754.9756 | J17: =J16*$M$17 -> 10500 | K17: =K16*$M$17 -> 14131.618 | M17: 0.06
A18: Closing Costs | B18: =C18*B17 -> 5250 | C18: 0.03 | H18: Remaining Mortgage | I18: =IFERROR(VLOOKUP(B14*12,Amortization!B1:F362,2,FALSE),0) -> -1.0402346e-10 | J18: =IFERROR(VLOOKUP(B14*12,Amortization!B1:F362,2,FALSE),0) -> -1.0402346e-10 | K18: =IFERROR(VLOOKUP(B14*12,Amortization!B1:F362,2,FALSE),0) -> -1.0402346e-10
A19: Down payment (%) | B19: 0.2 | H19: Cash to Owner | I19: =I16-I17-I18 -> 121494.62 | J19: =J16-J17-J18 -> 164500 | K19: =K16-K17-K18 -> 221395.34 | L19: http://observationsandnotes.blogspot.com/2011/07/housing-prices-inflation-since-1900.html
A20: Down payment | B20: =B19*B17 -> 35000
A21: Mortgage | B21: =B17-B20 -> 140000 | H21: Updated Homeowner Cash Outflow (including interest deduction) | I21: =$B$34-$B$41-I19 -> 160297.32 | J21: =$B$34-$B$41-J19 -> 117291.94 | K21: =$B$34-$B$41-K19 -> 60396.598
A22: Mortgage Time Period (yrs) | B22: 15
A23: Interest Rate (%) | B23: 0.0365 | H23: Apparent Advantage of Renting (excluding investment considerations) | I23: =I21-$F$34+$B$20 -> -64102.678 | J23: =J21-$F$34+$B$20 -> -107108.06 | K23: =K21-$F$34+$B$20 -> -164003.4
A24: Monthly Payment | B24: =-PMT(B23/12,B22*12,B21) -> 1011.1799
A25: Property Tax (monthly) | B25: =C25/12 -> 125.16667 | C25: 1502 | H25: Actual advantage of renting (with investment of the down payment) | I25: =I23+$F$41*(1-$F$47)-$B$20 -> 610.45807 | J25: =J23+$F$41*(1-$F$47)-$B$20 -> -42394.925 | K25: =K23+$F$41*(1-$F$47)-$B$20 -> -99290.266
A26: Insurance (monthly) | B26: =C26/12 -> 58.333333 | C26: =B17/1000*4 -> 700 | F26: 25
A27: Upkeep (mothly) | B27: =(C27*B17)/12 -> 182.29167 | C27: 0.0125 | F27: 10
A28: Total Monthly Cost (rounded) | B28: =MROUND(SUM(B24:B27),10) -> 1380 | F28: =MROUND(F27+F26+F16,10) -> 1240 | H28: Difference between housing budget (D9) and actual monthly costs (B26 and F26) can also be invested/saved. This potential is accounted for, below.
A30: Cost after time period | B30: =IF(B14<=B22,SUM(B24:B27)*12*B14,SUM(B25:B27)*12*B14+B22*12*B24) -> 247854.89 | F30: =F28*12*B14 -> 223200
A31: Cash up front | B31: =B20+B18 -> 40250 | F31: =F16+B20 -> 36200
H32: Actual advantage of renting with both investment considerations | I32: =I25+(1-$F$47)*($I$39-$I$38)+$F$16 -> 46185.18 | J32: =J25+(1-$F$47)*($I$39-$I$38)+$F$16 -> 3179.797 | K32: =K25+(1-$F$47)*($I$39-$I$38)+$F$16 -> -53715.545
A34: Total housing expenditures over time period | B34: =B31+B30 -> 288104.89 | F34: =F31+F30 -> 259400
A35: Analysis continues in columns H-K (real estate scenarios)
A38: VERY ROUGH - Assumes Itemizing and no bracket switching | D38: Invest the down payment | H38: Gains to home owner from investing any monthly "savings" (if any) when housing costs are less than budgeted. | I38: =IF(B14<=B22,FV(F40/12,B14*12,B28-D12),FV(F40/12,B22*12,B28-D12)+FV(F40/12,(B14-B22)*12,SUM(B25:B27)-D12)) -> 0
A39: Highest MARGINAL Tax Rate | B39: 0.15 | D39: Will you be able to place your investments in a ROTH IRA? (YES or NO) | F39: NO | H39: Gains to renter from investing the monthly "savings" (if any) when housing costs are less than budgeted. | I39: =FV(F40/12,B14*12,F28-D12) -> 44374.722
A40: Total Annual Interest Payments | B40: =IFERROR(-VLOOKUP(B14,Amortization!H2:J61,3,FALSE),0) -> 42086.321 | D40: Avg. Return* | F40: 0.07 | H40: Renter's total investment account balance (from investing the downpayment, and any additional investment along the way) | I40: =I39+F41 -> 144087.86
A41: Possible Total Tax Deductions* | B41: =B40*B39 -> 6312.9481 | D41: Renter's Investment / Retirement Account | F41: =FV(F40/12,B14*12,0,-B20) -> 99713.136
A42: Average Annual Deduction (interest deduction, in practice, is more beneficial early in the life of a mortgage) | B42: =B41/B14 -> 420.86321 | D42: *NOTE: Historical S&P 500 (inflation adjusted) return is 7%
A43: *NOTE: a rough (and optomistic) shot at incorporating this analysis subtracts this value from cells I11, J11, and K11 | D43: http://www.thesimpledollar.com/where-does-7-come-from-when-it-comes-to-long-term-stock-returns/
D46: Long Term Capital Gains
D47: Avg. Return* | F47: =IF(F39="YES",0,IF(B39<=0.15,0,IF(B39<=0.35,0.15,0.2))) -> 0
D49: *NOTE 1: If the funds are invested in a ROTH IRA or similar instrument, there will be no taxes assessed on the investment growth.
D50: *NOTE 2: Under usual circumstances, your long term capital gains rate is determined by your marginal tax rate (MTR). For 2017 the long-term capital gains rate is 0% for MTR of 10% and 15%, but rises to 15% for MTR upto 39.6% at which point it jumps to 20%.
...

Sheet Plot
A2: Time Period Under Consideration | B2: Relative Outcome (15 yr mortgage) | D2: Time Period Under Consideration | E2: Relative Outcome (30 yr mortgage) | G2: 15-yr mortgage | R2: 30-yr mortgage | AC2: Year | AD2: Renter's Investment Account.
A3: 1 | B3: 13767.213 | D3: 1 | E3: 10335.019 | AC3: 1 | AD3: 184433.89
A4: 3 | B4: 10064.482 | D4: 3 | E4: -718.67341 | AC4: 3 | AD4: 212063.2
A5: 5 | B5: 6811.6479 | D5: 5 | E5: -12089.352 | AC5: 5 | AD5: 243831.54
A6: 10 | B6: 1628.219 | D6: 10 | E6: -42061.92 | AC6: 10 | AD6: 345661.76
A7: 14 | B7: 2137.341 | D7: 14 | E7: -67902.192 | AC7: 15 | AD7: 490018.84
A8: 15 | B8: 3179.797 | D8: 15 | E8: -74631.054 | AC8: 20 | AD8: 694663.08
A9: 16 | B9: -7728.2815 | D9: 16 | E9: -81480.432 | AC9: 25 | AD9: 984771.93
A10: 20 | B10: -51685.085 | D10: 20 | E10: -110166.33 | AC10: 30 | AD10: 1396037.6
A11: 25 | B11: -107557.44 | D11: 25 | E11: -149254.54 | AC11: 35 | AD11: 1979058.1
A12: 29 | B12: -153258.06 | D12: 29 | E12: -183479.13 | AC12: 40 | AD12: 2805562.8
A13: 30 | B13: -164858.01 | D13: 30 | E13: -192487.19 | AC13: 45 | AD13: 3977236.7
A14: 31 | B14: -176538.17 | D14: 31 | E14: -193275.42 | AC14: 50 | AD14: 5638231.2
... A16: 40 | B16: -286378.74 | D16: 40 | E16: -161882.38 | AC16: 70 | AD16: 22771343
A17: 45 | B17: -352643.14 | D17: 45 | E17: -101691.77
A18: 50 | B18: -424675.74 | D18: 50 | E18: 5541.4457
A19: 60 | B19: -596687.34 | D19: 60 | E19: 447925.18
A20: 70 | B20: -830140.94 | D20: 70 | E20: 1458686.4
A22: From the "Analysis" sheet, choose the Data Tab > Forecast Section > "What-If Analysis > Scenario Manager... > Summary… > "Scenario Pivot Table Report" radio button should be selected for "Result Cell" J32 (which is the "Actual advantage of renting with both investment considerations" assuming a "real" inflation-adjusted housing return of 0%). The data will publish in a new "Pivot Table" sheet and can then be copied and paseted here ("Paste Values" to maintain formatting) and sorted by "Time Period Under Consideration". The plot should automatically update. | G22: Analysis / Discussion
G24: General
G25: Analysis on this sheet is RELATIVE (to other housing options), not absolute (i.e. it is not simulating a household net-worth over various time horizons).
G26: Thus, in each figure, any year that the value is positive represents a time-horizon over which the RENTER scenario leaves the household better off financially than the HOME OWNER scenario.
A28: Occasionally the simulator "glitches" with some of the calculations. You may need to run the What-If analysis twice to confirm that the values are correct.
A29: The new "Scenario PivotTable" sheet can then be deleted. | G29: Specific
G30: NOTE: The following analysis corresponds to specific details from various analyis scenarios. Does not apply to all scenarios.
G31: The most curious observation from this analysis I've noticed is that--for SOME scenario details (e.g. $175,000 house with $1200 rent, given current interest rates)--for a moderate time horizon (e.g. beginning around the 3-yr mark) a buyer with a 30-year mortgage will be better off than a renter (this jives with conventional wisdom). However, around the 30 year mark, the magic of compounding interest (at the higher, stock market rate of return) begins to drag the renter (who has a larger investment nest egg, but no home equity) ahead at an exponential pace, so that they catch up and surpass the buyer around the 50yr mark! Given the very long time horizon (most potential homeowners will not be very concerned about the fact that they might be better off renting 50 years from now (esp. given that the stock maret average is also associated with dramatic fluctuations above and below the average), I'm not sure what to make of that for most households, but it's still kind of interesting that pretty "normal" assumptions on rent and housing prices can generate this outcome. Basically this result is "saying" that stocks are a much better investment than housing (not super suprising given that housing is largely a consumption good). The time it takes before a renter catches up is shorter, of course, if the rent is lower... if it's low enough, relative to home prices, then it's possible that it would never make financial sense to buy, across any time horizon.
G35: Another curious observation is that, leaving all other details unchanged, except to change from a 30-yr to a 15-yr mortgage, and slightly lower the interest rates, the 30 and 15 yr mortgage scenarios yield very different outcomes. In the case of the 15yr mortgage, the renter will be better off until just after the buyer pays off their mortgage, at which point their increased ability to save will propel them ahead, relatively quickly. This analysis suggests that, IF the household expects to move in 15 years or less (very high liklihood for younger familes, esp. first-time home buyers), the household will be better off (financially) if they rent. Again, these differences arise in this particular scenario. Other scenarios can yield substantially different results from these. This possibility is at least one reason that advisers (online and elsewhere) stress that individual situatations are so important and why it is so important for different households to "run the numbers" for themselves... This is also why I have published this workbook.
G36: http://www.nahbclassic.org/fileUpload_details.aspx?contentTypeID=3&contentID=110770&subContentID=194118&channelID=311
G37: This links to a research article breaking down home-ownership tenure from 1987 - 2007 (note: that expected tenures rose in the midst of the 2008 recession).
G38: The article breaks the data down by rough geography, and whether the household is a first-time homeowner or not.

Sheet Amortization
B1: Payment Number | C1: Balance | D1: Principal | E1: Interest | F1: Payment | H1: Year | I1: Annual Interest | J1: Running Total | L1: Annual Interest
A2: Initial Mortgage | B2: 0 | C2: =Analysis!B21 -> 140000 | D2: 0 | E2: 0 | F2: 0 | H2: 1 | I2: =IFERROR(L2,0) -> -4991.2921 | J2: =I2 -> -4991.2921 | L2: =SUM(E3:E14) -> -4991.2921
B3: 1 | C3: =C2+D3 -> 139414.65 | D3: =IFERROR(IF(C2<0.01,0,F3-E3),0) -> -585.3466 | E3: =IFERROR(IPMT(Analysis!$B$23/12,B3,Analysis!$B$22*12,Analysis!$B$21),0) -> -425.83333 | F3: =PMT(Analysis!$B$23/12,Analysis!$B$22*12,$C$2) -> -1011.1799 | H3: 2 | I3: =IFERROR(L3,0) -> -4726.1714 | J3: =I3+J2 -> -9717.4634 | L3: =SUM(E15:E26) -> -4726.1714
B4: 2 | C4: =C3+D4 -> 138827.53 | D4: =IFERROR(IF(C3<0.01,0,F4-E4),0) -> -587.12703 | E4: =IFERROR(IPMT(Analysis!$B$23/12,B4,Analysis!$B$22*12,Analysis!$B$21),0) -> -424.0529 | F4: =PMT(Analysis!$B$23/12,Analysis!$B$22*12,$C$2) -> -1011.1799 | H4: 3 | I4: =IFERROR(L4,0) -> -4451.2102 | J4: =I4+J3 -> -14168.674 | L4: =SUM(E27:E38) -> -4451.2102
B5: 3 | C5: =C4+D5 -> 138238.61 | D5: =IFERROR(IF(C4<0.01,0,F5-E5),0) -> -588.91287 | E5: =IFERROR(IPMT(Analysis!$B$23/12,B5,Analysis!$B$22*12,Analysis!$B$21),0) -> -422.26706 | F5: =PMT(Analysis!$B$23/12,Analysis!$B$22*12,$C$2) -> -1011.1799 | H5: 4 | I5: =IFERROR(L5,0) -> -4166.0433 | J5: =I5+J4 -> -18334.717 | L5: =SUM(E39:E50) -> -4166.0433
B6: 4 | C6: =C5+D6 -> 137647.91 | D6: =IFERROR(IF(C5<0.01,0,F6-E6),0) -> -590.70415 | E6: =IFERROR(IPMT(Analysis!$B$23/12,B6,Analysis!$B$22*12,Analysis!$B$21),0) -> -420.47578 | F6: =PMT(Analysis!$B$23/12,Analysis!$B$22*12,$C$2) -> -1011.1799 | H6: 5 | I6: =IFERROR(L6,0) -> -3870.292 | J6: =I6+J5 -> -22205.009 | L6: =SUM(E51:E62) -> -3870.292
B7: 5 | C7: =C6+D7 -> 137055.41 | D7: =IFERROR(IF(C6<0.01,0,F7-E7),0) -> -592.50088 | E7: =IFERROR(IPMT(Analysis!$B$23/12,B7,Analysis!$B$22*12,Analysis!$B$21),0) -> -418.67906 | F7: =PMT(Analysis!$B$23/12,Analysis!$B$22*12,$C$2) -> -1011.1799 | H7: 6 | I7: =IFERROR(L7,0) -> -3563.5633 | J7: =I7+J6 -> -25768.572 | L7: =SUM(E63:E74) -> -3563.5633
B8: 6 | C8: =C7+D8 -> 136461.11 | D8: =IFERROR(IF(C7<0.01,0,F8-E8),0) -> -594.30307 | E8: =IFERROR(IPMT(Analysis!$B$23/12,B8,Analysis!$B$22*12,Analysis!$B$21),0) -> -416.87687 | F8: =PMT(Analysis!$B$23/12,Analysis!$B$22*12,$C$2) -> -1011.1799 | H8: 7 | I8: =IFERROR(L8,0) -> -3245.4498 | J8: =I8+J7 -> -29014.022 | L8: =SUM(E75:E86) -> -3245.4498
B9: 7 | C9: =C8+D9 -> 135864.99 | D9: =IFERROR(IF(C8<0.01,0,F9-E9),0) -> -596.11074 | E9: =IFERROR(IPMT(Analysis!$B$23/12,B9,Analysis!$B$22*12,Analysis!$B$21),0) -> -415.0692 | F9: =PMT(Analysis!$B$23/12,Analysis!$B$22*12,$C$2) -> -1011.1799 | H9: 8 | I9: =IFERROR(L9,0) -> -2915.5289 | J9: =I9+J8 -> -31929.551 | L9: =SUM(E87:E98) -> -2915.5289
B10: 8 | C10: =C9+D10 -> 135267.07 | D10: =IFERROR(IF(C9<0.01,0,F10-E10),0) -> -597.92391 | E10: =IFERROR(IPMT(Analysis!$B$23/12,B10,Analysis!$B$22*12,Analysis!$B$21),0) -> -413.25603 | F10: =PMT(Analysis!$B$23/12,Analysis!$B$22*12,$C$2) -> -1011.1799 | H10: 9 | I10: =IFERROR(L10,0) -> -2573.3624 | J10: =I10+J9 -> -34502.913 | L10: =SUM(E99:E110) -> -2573.3624
B11: 9 | C11: =C10+D11 -> 134667.33 | D11: =IFERROR(IF(C10<0.01,0,F11-E11),0) -> -599.74259 | E11: =IFERROR(IPMT(Analysis!$B$23/12,B11,Analysis!$B$22*12,Analysis!$B$21),0) -> -411.43734 | F11: =PMT(Analysis!$B$23/12,Analysis!$B$22*12,$C$2) -> -1011.1799 | H11: 10 | I11: =IFERROR(L11,0) -> -2218.4958 | J11: =I11+J10 -> -36721.409 | L11: =SUM(E111:E122) -> -2218.4958
B12: 10 | C12: =C11+D12 -> 134065.76 | D12: =IFERROR(IF(C11<0.01,0,F12-E12),0) -> -601.56681 | E12: =IFERROR(IPMT(Analysis!$B$23/12,B12,Analysis!$B$22*12,Analysis!$B$21),0) -> -409.61312 | F12: =PMT(Analysis!$B$23/12,Analysis!$B$22*12,$C$2) -> -1011.1799 | H12: 11 | I12: =IFERROR(L12,0) -> -1850.4576 | J12: =I12+J11 -> -38571.867 | L12: =SUM(E123:E134) -> -1850.4576
B13: 11 | C13: =C12+D13 -> 133462.36 | D13: =IFERROR(IF(C12<0.01,0,F13-E13),0) -> -603.39658 | E13: =IFERROR(IPMT(Analysis!$B$23/12,B13,Analysis!$B$22*12,Analysis!$B$21),0) -> -407.78336 | F13: =PMT(Analysis!$B$23/12,Analysis!$B$22*12,$C$2) -> -1011.1799 | H13: 12 | I13: =IFERROR(L13,0) -> -1468.759 | J13: =I13+J12 -> -40040.626 | L13: =SUM(E135:E146) -> -1468.759
B14: 12 | C14: =C13+D14 -> 132857.13 | D14: =IFERROR(IF(C13<0.01,0,F14-E14),0) -> -605.23191 | E14: =IFERROR(IPMT(Analysis!$B$23/12,B14,Analysis!$B$22*12,Analysis!$B$21),0) -> -405.94803 | F14: =PMT(Analysis!$B$23/12,Analysis!$B$22*12,$C$2) -> -1011.1799 | H14: 13 | I14: =IFERROR(L14,0) -> -1072.893 | J14: =I14+J13 -> -41113.519 | L14: =SUM(E147:E158) -> -1072.893
B15: 13 | C15: =C14+D15 -> 132250.06 | D15: =IFERROR(IF(C14<0.01,0,F15-E15),0) -> -607.07282 | E15: =IFERROR(IPMT(Analysis!$B$23/12,B15,Analysis!$B$22*12,Analysis!$B$21),0) -> -404.10711 | F15: =PMT(Analysis!$B$23/12,Analysis!$B$22*12,$C$2) -> -1011.1799 | H15: 14 | I15: =IFERROR(L15,0) -> -736.2665 | J15: =I15+J14 -> -41849.785 | L15: =SUM(E158:E170) -> -736.2665
B16: 14 | C16: =C15+D16 -> 131641.14 | D16: =IFERROR(IF(C15<0.01,0,F16-E16),0) -> -608.91933 | E16: =IFERROR(IPMT(Analysis!$B$23/12,B16,Analysis!$B$22*12,Analysis!$B$21),0) -> -402.2606 | F16: =PMT(Analysis!$B$23/12,Analysis!$B$22*12,$C$2) -> -1011.1799 | H16: 15 | I16: =IFERROR(L16,0) -> -236.53562 | J16: =I16+J15 -> -42086.321 | L16: =SUM(E171:E182) -> -236.53562
B17: 15 | C17: =C16+D17 -> 131030.37 | D17: =IFERROR(IF(C16<0.01,0,F17-E17),0) -> -610.77146 | E17: =IFERROR(IPMT(Analysis!$B$23/12,B17,Analysis!$B$22*12,Analysis!$B$21),0) -> -400.40847 | F17: =PMT(Analysis!$B$23/12,Analysis!$B$22*12,$C$2) -> -1011.1799 | H17: 16 | I17: =IFERROR(L17,0) -> 0 | J17: =I17+J16 -> -42086.321 | L17: =SUM(E183:E194) -> 0
B18: 16 | C18: =C17+D18 -> 130417.74 | D18: =IFERROR(IF(C17<0.01,0,F18-E18),0) -> -612.62923 | E18: =IFERROR(IPMT(Analysis!$B$23/12,B18,Analysis!$B$22*12,Analysis!$B$21),0) -> -398.55071 | F18: =PMT(Analysis!$B$23/12,Analysis!$B$22*12,$C$2) -> -1011.1799 | H18: 17 | I18: =IFERROR(L18,0) -> 0 | J18: =I18+J17 -> -42086.321 | L18: =SUM(E195:E206) -> 0
B19: 17 | C19: =C18+D19 -> 129803.25 | D19: =IFERROR(IF(C18<0.01,0,F19-E19),0) -> -614.49264 | E19: =IFERROR(IPMT(Analysis!$B$23/12,B19,Analysis!$B$22*12,Analysis!$B$21),0) -> -396.68729 | F19: =PMT(Analysis!$B$23/12,Analysis!$B$22*12,$C$2) -> -1011.1799 | H19: 18 | I19: =IFERROR(L19,0) -> 0 | J19: =I19+J18 -> -42086.321 | L19: =SUM(E207:E218) -> 0
B20: 18 | C20: =C19+D20 -> 129186.89 | D20: =IFERROR(IF(C19<0.01,0,F20-E20),0) -> -616.36172 | E20: =IFERROR(IPMT(Analysis!$B$23/12,B20,Analysis!$B$22*12,Analysis!$B$21),0) -> -394.81821 | F20: =PMT(Analysis!$B$23/12,Analysis!$B$22*12,$C$2) -> -1011.1799 | H20: 19 | I20: =IFERROR(L20,0) -> 0 | J20: =I20+J19 -> -42086.321 | L20: =SUM(E219:E230) -> 0
B21: 19 | C21: =C20+D21 -> 128568.65 | D21: =IFERROR(IF(C20<0.01,0,F21-E21),0) -> -618.23649 | E21: =IFERROR(IPMT(Analysis!$B$23/12,B21,Analysis!$B$22*12,Analysis!$B$21),0) -> -392.94344 | F21: =PMT(Analysis!$B$23/12,Analysis!$B$22*12,$C$2) -> -1011.1799 | H21: 20 | I21: =IFERROR(L21,0) -> 0 | J21: =I21+J20 -> -42086.321 | L21: =SUM(E231:E242) -> 0
B22: 20 | C22: =C21+D22 -> 127948.53 | D22: =IFERROR(IF(C21<0.01,0,F22-E22),0) -> -620.11696 | E22: =IFERROR(IPMT(Analysis!$B$23/12,B22,Analysis!$B$22*12,Analysis!$B$21),0) -> -391.06297 | F22: =PMT(Analysis!$B$23/12,Analysis!$B$22*12,$C$2) -> -1011.1799 | H22: 21 | I22: =IFERROR(L22,0) -> 0 | J22: =I22+J21 -> -42086.321 | L22: =SUM(E243:E254) -> 0
B23: 21 | C23: =C22+D23 -> 127326.53 | D23: =IFERROR(IF(C22<0.01,0,F23-E23),0) -> -622.00315 | E23: =IFERROR(IPMT(Analysis!$B$23/12,B23,Analysis!$B$22*12,Analysis!$B$21),0) -> -389.17679 | F23: =PMT(Analysis!$B$23/12,Analysis!$B$22*12,$C$2) -> -1011.1799 | H23: 22 | I23: =IFERROR(L23,0) -> 0 | J23: =I23+J22 -> -42086.321 | L23: =SUM(E255:E266) -> 0
B24: 22 | C24: =C23+D24 -> 126702.63 | D24: =IFERROR(IF(C23<0.01,0,F24-E24),0) -> -623.89507 | E24: =IFERROR(IPMT(Analysis!$B$23/12,B24,Analysis!$B$22*12,Analysis!$B$21),0) -> -387.28486 | F24: =PMT(Analysis!$B$23/12,Analysis!$B$22*12,$C$2) -> -1011.1799 | H24: 23 | I24: =IFERROR(L24,0) -> 0 | J24: =I24+J23 -> -42086.321 | L24: =SUM(E267:E278) -> 0
B25: 23 | C25: =C24+D25 -> 126076.84 | D25: =IFERROR(IF(C24<0.01,0,F25-E25),0) -> -625.79275 | E25: =IFERROR(IPMT(Analysis!$B$23/12,B25,Analysis!$B$22*12,Analysis!$B$21),0) -> -385.38718 | F25: =PMT(Analysis!$B$23/12,Analysis!$B$22*12,$C$2) -> -1011.1799 | H25: 24 | I25: =IFERROR(L25,0) -> 0 | J25: =I25+J24 -> -42086.321 | L25: =SUM(E279:E290) -> 0
B26: 24 | C26: =C25+D26 -> 125449.15 | D26: =IFERROR(IF(C25<0.01,0,F26-E26),0) -> -627.69621 | E26: =IFERROR(IPMT(Analysis!$B$23/12,B26,Analysis!$B$22*12,Analysis!$B$21),0) -> -383.48373 | F26: =PMT(Analysis!$B$23/12,Analysis!$B$22*12,$C$2) -> -1011.1799 | H26: 25 | I26: =IFERROR(L26,0) -> 0 | J26: =I26+J25 -> -42086.321 | L26: =SUM(E291:E302) -> 0
B27: 25 | C27: =C26+D27 -> 124819.54 | D27: =IFERROR(IF(C26<0.01,0,F27-E27),0) -> -629.60545 | E27: =IFERROR(IPMT(Analysis!$B$23/12,B27,Analysis!$B$22*12,Analysis!$B$21),0) -> -381.57448 | F27: =PMT(Analysis!$B$23/12,Analysis!$B$22*12,$C$2) -> -1011.1799 | H27: 26 | I27: =IFERROR(L27,0) -> 0 | J27: =I27+J26 -> -42086.321 | L27: =SUM(E303:E314) -> 0
B28: 26 | C28: =C27+D28 -> 124188.02 | D28: =IFERROR(IF(C27<0.01,0,F28-E28),0) -> -631.5205 | E28: =IFERROR(IPMT(Analysis!$B$23/12,B28,Analysis!$B$22*12,Analysis!$B$21),0) -> -379.65943 | F28: =PMT(Analysis!$B$23/12,Analysis!$B$22*12,$C$2) -> -1011.1799 | H28: 27 | I28: =IFERROR(L28,0) -> 0 | J28: =I28+J27 -> -42086.321 | L28: =SUM(E315:E326) -> 0
B29: 27 | C29: =C28+D29 -> 123554.58 | D29: =IFERROR(IF(C28<0.01,0,F29-E29),0) -> -633.44138 | E29: =IFERROR(IPMT(Analysis!$B$23/12,B29,Analysis!$B$22*12,Analysis!$B$21),0) -> -377.73856 | F29: =PMT(Analysis!$B$23/12,Analysis!$B$22*12,$C$2) -> -1011.1799 | H29: 28 | I29: =IFERROR(L29,0) -> 0 | J29: =I29+J28 -> -42086.321 | L29: =SUM(E327:E338) -> 0
B30: 28 | C30: =C29+D30 -> 122919.21 | D30: =IFERROR(IF(C29<0.01,0,F30-E30),0) -> -635.36809 | E30: =IFERROR(IPMT(Analysis!$B$23/12,B30,Analysis!$B$22*12,Analysis!$B$21),0) -> -375.81184 | F30: =PMT(Analysis!$B$23/12,Analysis!$B$22*12,$C$2) -> -1011.1799 | H30: 29 | I30: =IFERROR(L30,0) -> 0 | J30: =I30+J29 -> -42086.321 | L30: =SUM(E339:E350) -> 0
B31: 29 | C31: =C30+D31 -> 122281.91 | D31: =IFERROR(IF(C30<0.01,0,F31-E31),0) -> -637.30067 | E31: =IFERROR(IPMT(Analysis!$B$23/12,B31,Analysis!$B$22*12,Analysis!$B$21),0) -> -373.87926 | F31: =PMT(Analysis!$B$23/12,Analysis!$B$22*12,$C$2) -> -1011.1799 | H31: 30 | I31: =IFERROR(L31,0) -> 0 | J31: =I31+J30 -> -42086.321 | L31: =SUM(E351:E362) -> 0
B32: 30 | C32: =C31+D32 -> 121642.67 | D32: =IFERROR(IF(C31<0.01,0,F32-E32),0) -> -639.23913 | E32: =IFERROR(IPMT(Analysis!$B$23/12,B32,Analysis!$B$22*12,Analysis!$B$21),0) -> -371.94081 | F32: =PMT(Analysis!$B$23/12,Analysis!$B$22*12,$C$2) -> -1011.1799 | H32: 31 | I32: 0 | J32: =I32+J31 -> -42086.321
B33: 31 | C33: =C32+D33 -> 121001.49 | D33: =IFERROR(IF(C32<0.01,0,F33-E33),0) -> -641.18348 | E33: =IFERROR(IPMT(Analysis!$B$23/12,B33,Analysis!$B$22*12,Analysis!$B$21),0) -> -369.99645 | F33: =PMT(Analysis!$B$23/12,Analysis!$B$22*12,$C$2) -> -1011.1799 | H33: 32 | I33: 0 | J33: =I33+J32 -> -42086.321
B34: 32 | C34: =C33+D34 -> 120358.35 | D34: =IFERROR(IF(C33<0.01,0,F34-E34),0) -> -643.13375 | E34: =IFERROR(IPMT(Analysis!$B$23/12,B34,Analysis!$B$22*12,Analysis!$B$21),0) -> -368.04619 | F34: =PMT(Analysis!$B$23/12,Analysis!$B$22*12,$C$2) -> -1011.1799 | H34: 33 | I34: 0 | J34: =I34+J33 -> -42086.321
B35: 33 | C35: =C34+D35 -> 119713.26 | D35: =IFERROR(IF(C34<0.01,0,F35-E35),0) -> -645.08994 | E35: =IFERROR(IPMT(Analysis!$B$23/12,B35,Analysis!$B$22*12,Analysis!$B$21),0) -> -366.08999 | F35: =PMT(Analysis!$B$23/12,Analysis!$B$22*12,$C$2) -> -1011.1799 | H35: 34 | I35: 0 | J35: =I35+J34 -> -42086.321
B36: 34 | C36: =C35+D36 -> 119066.21 | D36: =IFERROR(IF(C35<0.01,0,F36-E36),0) -> -647.05209 | E36: =IFERROR(IPMT(Analysis!$B$23/12,B36,Analysis!$B$22*12,Analysis!$B$21),0) -> -364.12784 | F36: =PMT(Analysis!$B$23/12,Analysis!$B$22*12,$C$2) -> -1011.1799 | H36: 35 | I36: 0 | J36: =I36+J35 -> -42086.321
B37: 35 | C37: =C36+D37 -> 118417.19 | D37: =IFERROR(IF(C36<0.01,0,F37-E37),0) -> -649.02021 | E37: =IFERROR(IPMT(Analysis!$B$23/12,B37,Analysis!$B$22*12,Analysis!$B$21),0) -> -362.15972 | F37: =PMT(Analysis!$B$23/12,Analysis!$B$22*12,$C$2) -> -1011.1799 | H37: 36 | I37: 0 | J37: =I37+J36 -> -42086.321
B38: 36 | C38: =C37+D38 -> 117766.2 | D38: =IFERROR(IF(C37<0.01,0,F38-E38),0) -> -650.99431 | E38: =IFERROR(IPMT(Analysis!$B$23/12,B38,Analysis!$B$22*12,Analysis!$B$21),0) -> -360.18562 | F38: =PMT(Analysis!$B$23/12,Analysis!$B$22*12,$C$2) -> -1011.1799 | H38: 37 | I38: 0 | J38: =I38+J37 -> -42086.321
B39: 37 | C39: =C38+D39 -> 117113.22 | D39: =IFERROR(IF(C38<0.01,0,F39-E39),0) -> -652.97442 | E39: =IFERROR(IPMT(Analysis!$B$23/12,B39,Analysis!$B$22*12,Analysis!$B$21),0) -> -358.20551 | F39: =PMT(Analysis!$B$23/12,Analysis!$B$22*12,$C$2) -> -1011.1799 | H39: 38 | I39: 0 | J39: =I39+J38 -> -42086.321
B40: 38 | C40: =C39+D40 -> 116458.26 | D40: =IFERROR(IF(C39<0.01,0,F40-E40),0) -> -654.96055 | E40: =IFERROR(IPMT(Analysis!$B$23/12,B40,Analysis!$B$22*12,Analysis!$B$21),0) -> -356.21938 | F40: =PMT(Analysis!$B$23/12,Analysis!$B$22*12,$C$2) -> -1011.1799 | H40: 39 | I40: 0 | J40: =I40+J39 -> -42086.321
...
